BEGIN:VCALENDAR
VERSION:2.0
PRODID:-//High Hopes Arts Collective - ECPv6.15.20//NONSGML v1.0//EN
CALSCALE:GREGORIAN
METHOD:PUBLISH
X-WR-CALNAME:High Hopes Arts Collective
X-ORIGINAL-URL:https://highhopesartscollective.org
X-WR-CALDESC:Events for High Hopes Arts Collective
REFRESH-INTERVAL;VALUE=DURATION:PT1H
X-Robots-Tag:noindex
X-PUBLISHED-TTL:PT1H
BEGIN:VTIMEZONE
TZID:America/New_York
BEGIN:DAYLIGHT
TZOFFSETFROM:-0500
TZOFFSETTO:-0400
TZNAME:EDT
DTSTART:20240310T070000
END:DAYLIGHT
BEGIN:STANDARD
TZOFFSETFROM:-0400
TZOFFSETTO:-0500
TZNAME:EST
DTSTART:20241103T060000
END:STANDARD
BEGIN:DAYLIGHT
TZOFFSETFROM:-0500
TZOFFSETTO:-0400
TZNAME:EDT
DTSTART:20250309T070000
END:DAYLIGHT
BEGIN:STANDARD
TZOFFSETFROM:-0400
TZOFFSETTO:-0500
TZNAME:EST
DTSTART:20251102T060000
END:STANDARD
BEGIN:DAYLIGHT
TZOFFSETFROM:-0500
TZOFFSETTO:-0400
TZNAME:EDT
DTSTART:20260308T070000
END:DAYLIGHT
BEGIN:STANDARD
TZOFFSETFROM:-0400
TZOFFSETTO:-0500
TZNAME:EST
DTSTART:20261101T060000
END:STANDARD
BEGIN:DAYLIGHT
TZOFFSETFROM:-0500
TZOFFSETTO:-0400
TZNAME:EDT
DTSTART:20270314T070000
END:DAYLIGHT
BEGIN:STANDARD
TZOFFSETFROM:-0400
TZOFFSETTO:-0500
TZNAME:EST
DTSTART:20271107T060000
END:STANDARD
END:VTIMEZONE
BEGIN:VEVENT
DTSTART;TZID=America/New_York:20251027T080000
DTEND;TZID=America/New_York:20260531T235900
DTSTAMP:20260420T060417
CREATED:20251027T161551Z
LAST-MODIFIED:20251027T161551Z
UID:136-1761552000-1780271940@highhopesartscollective.org
SUMMARY:New Veterans and First Responders Memorial
DESCRIPTION:We are currently helping to support a new Veterans and First Responders Memorial here at Alpine Lake.  The project has been approved by the Board of Directors and construction will begin soon.  This project is funded solely by donors who wish to honor a deceased or living person for their service to country or community or simply to honor a loved one.  All donations are tax deductible. Expected completion is no later than Labor Day of 2026 but the group would like to be finished by Memorial Day if possible. We are selling laser inscribed bricks 4″x8″ for $100 and an 8″x8″ brick for $250.  Pledge Donations will continue to be accepted.
URL:https://highhopesartscollective.org/event/veterans-and-first-responders-memorial/
ATTACH;FMTTYPE=image/png:https://highhopesartscollective.org/wp-content/uploads/2025/10/AdobeStock_1461240187_16x9.png
END:VEVENT
END:VCALENDAR